BEGIN:VCALENDAR
VERSION:2.0
PRODID:-//TC Gerolsbach e.V. - ECPv6.15.20//NONSGML v1.0//EN
CALSCALE:GREGORIAN
METHOD:PUBLISH
X-WR-CALNAME:TC Gerolsbach e.V.
X-ORIGINAL-URL:https://www.tc-gerolsbach.de
X-WR-CALDESC:Veranstaltungen für TC Gerolsbach e.V.
REFRESH-INTERVAL;VALUE=DURATION:PT1H
X-Robots-Tag:noindex
X-PUBLISHED-TTL:PT1H
BEGIN:VTIMEZONE
TZID:Europe/Berlin
BEGIN:DAYLIGHT
TZOFFSETFROM:+0100
TZOFFSETTO:+0200
TZNAME:CEST
DTSTART:20250330T010000
END:DAYLIGHT
BEGIN:STANDARD
TZOFFSETFROM:+0200
TZOFFSETTO:+0100
TZNAME:CET
DTSTART:20251026T010000
END:STANDARD
BEGIN:DAYLIGHT
TZOFFSETFROM:+0100
TZOFFSETTO:+0200
TZNAME:CEST
DTSTART:20260329T010000
END:DAYLIGHT
BEGIN:STANDARD
TZOFFSETFROM:+0200
TZOFFSETTO:+0100
TZNAME:CET
DTSTART:20261025T010000
END:STANDARD
BEGIN:DAYLIGHT
TZOFFSETFROM:+0100
TZOFFSETTO:+0200
TZNAME:CEST
DTSTART:20270328T010000
END:DAYLIGHT
BEGIN:STANDARD
TZOFFSETFROM:+0200
TZOFFSETTO:+0100
TZNAME:CET
DTSTART:20271031T010000
END:STANDARD
END:VTIMEZONE
BEGIN:VEVENT
DTSTART;TZID=Europe/Berlin:20260613T140000
DTEND;TZID=Europe/Berlin:20260613T140000
DTSTAMP:20260421T153936
CREATED:20260320T122211Z
LAST-MODIFIED:20260320T122819Z
UID:2483-1781359200-1781359200@www.tc-gerolsbach.de
SUMMARY:TC Gerolsbach - FC Schweitenkirchen
DESCRIPTION:Herren30
URL:https://www.tc-gerolsbach.de/event/tc-gerolsbach-fc-schweitenkirchen-2/
LOCATION:TC Gerolsbach\, Oberhalb der Schule\, Gerolsbach\, 85302
CATEGORIES:Punktspiel
END:VEVENT
BEGIN:VEVENT
DTSTART;TZID=Europe/Berlin:20260619T150000
DTEND;TZID=Europe/Berlin:20260619T150000
DTSTAMP:20260421T153936
CREATED:20260320T122056Z
LAST-MODIFIED:20260320T122704Z
UID:2455-1781881200-1781881200@www.tc-gerolsbach.de
SUMMARY:TC Gerolsbach - TV Hörzhausen
DESCRIPTION:Knaben15
URL:https://www.tc-gerolsbach.de/event/tc-gerolsbach-tv-hoerzhausen/
LOCATION:TC Gerolsbach\, Oberhalb der Schule\, Gerolsbach\, 85302
CATEGORIES:Punktspiel
END:VEVENT
BEGIN:VEVENT
DTSTART;TZID=Europe/Berlin:20260620T090000
DTEND;TZID=Europe/Berlin:20260620T090000
DTSTAMP:20260421T153936
CREATED:20260320T122054Z
LAST-MODIFIED:20260320T122702Z
UID:2450-1781946000-1781946000@www.tc-gerolsbach.de
SUMMARY:VfB Pörnbach - TC Gerolsbach
DESCRIPTION:Juniorinnen18
URL:https://www.tc-gerolsbach.de/event/vfb-poernbach-tc-gerolsbach/
LOCATION:VfB Pörnbach\, Raiffeisenstr. 13\, Pörnbach\, 85309
CATEGORIES:Punktspiel
END:VEVENT
BEGIN:VEVENT
DTSTART;TZID=Europe/Berlin:20260620T090000
DTEND;TZID=Europe/Berlin:20260620T090000
DTSTAMP:20260421T153936
CREATED:20260320T122111Z
LAST-MODIFIED:20260320T122719Z
UID:2466-1781946000-1781946000@www.tc-gerolsbach.de
SUMMARY:TC Scheyern - TC Gerolsbach
DESCRIPTION:Bambini12
URL:https://www.tc-gerolsbach.de/event/tc-scheyern-tc-gerolsbach/
LOCATION:TC Scheyern\, Schöneck\, Scheyern\, 85298
CATEGORIES:Punktspiel
END:VEVENT
BEGIN:VEVENT
DTSTART;TZID=Europe/Berlin:20260620T140000
DTEND;TZID=Europe/Berlin:20260620T140000
DTSTAMP:20260421T153936
CREATED:20260320T122156Z
LAST-MODIFIED:20260320T122804Z
UID:2479-1781964000-1781964000@www.tc-gerolsbach.de
SUMMARY:TC Gerolsbach - SV Stadtwerke München
DESCRIPTION:Damen40
URL:https://www.tc-gerolsbach.de/event/tc-gerolsbach-sv-stadtwerke-muenchen/
LOCATION:TC Gerolsbach\, Oberhalb der Schule\, Gerolsbach\, 85302
CATEGORIES:Punktspiel
END:VEVENT
BEGIN:VEVENT
DTSTART;TZID=Europe/Berlin:20260620T140000
DTEND;TZID=Europe/Berlin:20260620T140000
DTSTAMP:20260421T153936
CREATED:20260320T122211Z
LAST-MODIFIED:20260320T122819Z
UID:2484-1781964000-1781964000@www.tc-gerolsbach.de
SUMMARY:SV Haimhausen - TC Gerolsbach
DESCRIPTION:Herren30
URL:https://www.tc-gerolsbach.de/event/sv-haimhausen-tc-gerolsbach/
CATEGORIES:Punktspiel
END:VEVENT
BEGIN:VEVENT
DTSTART;TZID=Europe/Berlin:20260621T090000
DTEND;TZID=Europe/Berlin:20260621T090000
DTSTAMP:20260421T153936
CREATED:20260320T122127Z
LAST-MODIFIED:20260320T122734Z
UID:2472-1782032400-1782032400@www.tc-gerolsbach.de
SUMMARY:SC Mühlried - TC Gerolsbach
DESCRIPTION:Damen
URL:https://www.tc-gerolsbach.de/event/sc-muehlried-tc-gerolsbach-2/
LOCATION:SC Mühlried\, Rinderhofen Breite 2\, Schrobenhausen\, 86529
CATEGORIES:Punktspiel
END:VEVENT
BEGIN:VEVENT
DTSTART;TZID=Europe/Berlin:20260626T150000
DTEND;TZID=Europe/Berlin:20260626T150000
DTSTAMP:20260421T153936
CREATED:20260320T122056Z
LAST-MODIFIED:20260320T122704Z
UID:2456-1782486000-1782486000@www.tc-gerolsbach.de
SUMMARY:TC Gerolsbach - TC Aichach
DESCRIPTION:Knaben15
URL:https://www.tc-gerolsbach.de/event/tc-gerolsbach-tc-aichach/
LOCATION:TC Gerolsbach\, Oberhalb der Schule\, Gerolsbach\, 85302
CATEGORIES:Punktspiel
END:VEVENT
BEGIN:VEVENT
DTSTART;TZID=Europe/Berlin:20260627T090000
DTEND;TZID=Europe/Berlin:20260627T090000
DTSTAMP:20260421T153936
CREATED:20260320T122054Z
LAST-MODIFIED:20260320T122702Z
UID:2451-1782550800-1782550800@www.tc-gerolsbach.de
SUMMARY:TC Wittelsbach-Aichach - TC Gerolsbach
DESCRIPTION:Juniorinnen18
URL:https://www.tc-gerolsbach.de/event/tc-wittelsbach-aichach-tc-gerolsbach/
LOCATION:TC Wittelsbach-Aichach\, Schloßanger\, Aichach\, 86551
CATEGORIES:Punktspiel
END:VEVENT
BEGIN:VEVENT
DTSTART;TZID=Europe/Berlin:20260627T090000
DTEND;TZID=Europe/Berlin:20260627T090000
DTSTAMP:20260421T153936
CREATED:20260320T122112Z
LAST-MODIFIED:20260320T122719Z
UID:2467-1782550800-1782550800@www.tc-gerolsbach.de
SUMMARY:TC Gerolsbach - FC Tandern
DESCRIPTION:Bambini12
URL:https://www.tc-gerolsbach.de/event/tc-gerolsbach-fc-tandern/
LOCATION:TC Gerolsbach\, Oberhalb der Schule\, Gerolsbach\, 85302
CATEGORIES:Punktspiel
END:VEVENT
BEGIN:VEVENT
DTSTART;TZID=Europe/Berlin:20260627T140000
DTEND;TZID=Europe/Berlin:20260627T140000
DTSTAMP:20260421T153936
CREATED:20260320T122156Z
LAST-MODIFIED:20260320T122804Z
UID:2480-1782568800-1782568800@www.tc-gerolsbach.de
SUMMARY:SV Haimhausen II - TC Gerolsbach
DESCRIPTION:Damen40
URL:https://www.tc-gerolsbach.de/event/sv-haimhausen-ii-tc-gerolsbach/
CATEGORIES:Punktspiel
END:VEVENT
BEGIN:VEVENT
DTSTART;TZID=Europe/Berlin:20260627T140000
DTEND;TZID=Europe/Berlin:20260627T140000
DTSTAMP:20260421T153936
CREATED:20260320T122211Z
LAST-MODIFIED:20260320T122819Z
UID:2485-1782568800-1782568800@www.tc-gerolsbach.de
SUMMARY:TC Gerolsbach - TSV Allershausen
DESCRIPTION:Herren30
URL:https://www.tc-gerolsbach.de/event/tc-gerolsbach-tsv-allershausen/
LOCATION:TC Gerolsbach\, Oberhalb der Schule\, Gerolsbach\, 85302
CATEGORIES:Punktspiel
END:VEVENT
BEGIN:VEVENT
DTSTART;TZID=Europe/Berlin:20260628T090000
DTEND;TZID=Europe/Berlin:20260628T090000
DTSTAMP:20260421T153936
CREATED:20260320T122141Z
LAST-MODIFIED:20260320T122748Z
UID:2473-1782637200-1782637200@www.tc-gerolsbach.de
SUMMARY:TC Klingsmoos - TC Gerolsbach
DESCRIPTION:Damen
URL:https://www.tc-gerolsbach.de/event/tc-klingsmoos-tc-gerolsbach/
LOCATION:TC Klingsmoos\, Pöttmeser Str. 171\, Königsmoos\, 86669
CATEGORIES:Punktspiel
END:VEVENT
BEGIN:VEVENT
DTSTART;TZID=Europe/Berlin:20260703T150000
DTEND;TZID=Europe/Berlin:20260703T150000
DTSTAMP:20260421T153936
CREATED:20260320T122056Z
LAST-MODIFIED:20260320T122704Z
UID:2457-1783090800-1783090800@www.tc-gerolsbach.de
SUMMARY:TSV Schiltberg - TC Gerolsbach
DESCRIPTION:Knaben15
URL:https://www.tc-gerolsbach.de/event/tsv-schiltberg-tc-gerolsbach/
LOCATION:TSV Schiltberg\, Am Sportplatz\, Schiltberg\, 86576
CATEGORIES:Punktspiel
END:VEVENT
BEGIN:VEVENT
DTSTART;TZID=Europe/Berlin:20260704T090000
DTEND;TZID=Europe/Berlin:20260704T090000
DTSTAMP:20260421T153936
CREATED:20260320T122126Z
LAST-MODIFIED:20260320T122734Z
UID:2468-1783155600-1783155600@www.tc-gerolsbach.de
SUMMARY:TC Gerolsbach - FC Schweitenkirchen
DESCRIPTION:Bambini12
URL:https://www.tc-gerolsbach.de/event/tc-gerolsbach-fc-schweitenkirchen/
LOCATION:TC Gerolsbach\, Oberhalb der Schule\, Gerolsbach\, 85302
CATEGORIES:Punktspiel
END:VEVENT
BEGIN:VEVENT
DTSTART;TZID=Europe/Berlin:20260704T140000
DTEND;TZID=Europe/Berlin:20260704T140000
DTSTAMP:20260421T153936
CREATED:20260320T122211Z
LAST-MODIFIED:20260320T122819Z
UID:2486-1783173600-1783173600@www.tc-gerolsbach.de
SUMMARY:TC Gerolsbach - Münchner Sportclub
DESCRIPTION:Herren30
URL:https://www.tc-gerolsbach.de/event/tc-gerolsbach-muenchner-sportclub/
LOCATION:TC Gerolsbach\, Oberhalb der Schule\, Gerolsbach\, 85302
CATEGORIES:Punktspiel
END:VEVENT
BEGIN:VEVENT
DTSTART;TZID=Europe/Berlin:20260705T090000
DTEND;TZID=Europe/Berlin:20260705T090000
DTSTAMP:20260421T153936
CREATED:20260320T122141Z
LAST-MODIFIED:20260320T122749Z
UID:2474-1783242000-1783242000@www.tc-gerolsbach.de
SUMMARY:TC Gerolsbach - SV Karlskron
DESCRIPTION:Damen
URL:https://www.tc-gerolsbach.de/event/tc-gerolsbach-sv-karlskron/
LOCATION:TC Gerolsbach\, Oberhalb der Schule\, Gerolsbach\, 85302
CATEGORIES:Punktspiel
END:VEVENT
BEGIN:VEVENT
DTSTART;TZID=Europe/Berlin:20260710T150000
DTEND;TZID=Europe/Berlin:20260710T150000
DTSTAMP:20260421T153936
CREATED:20260320T122111Z
LAST-MODIFIED:20260320T122719Z
UID:2463-1783695600-1783695600@www.tc-gerolsbach.de
SUMMARY:SC Mühlried - TC Gerolsbach
DESCRIPTION:Knaben15
URL:https://www.tc-gerolsbach.de/event/sc-muehlried-tc-gerolsbach/
LOCATION:SC Mühlried\, Rinderhofen Breite 2\, Schrobenhausen\, 86529
CATEGORIES:Punktspiel
END:VEVENT
BEGIN:VEVENT
DTSTART;TZID=Europe/Berlin:20260711T090000
DTEND;TZID=Europe/Berlin:20260711T090000
DTSTAMP:20260421T153936
CREATED:20260320T122054Z
LAST-MODIFIED:20260320T122702Z
UID:2452-1783760400-1783760400@www.tc-gerolsbach.de
SUMMARY:TC Gerolsbach - TSV Schiltberg
DESCRIPTION:Juniorinnen18
URL:https://www.tc-gerolsbach.de/event/tc-gerolsbach-tsv-schiltberg/
LOCATION:TC Gerolsbach\, Oberhalb der Schule\, Gerolsbach\, 85302
CATEGORIES:Punktspiel
END:VEVENT
BEGIN:VEVENT
DTSTART;TZID=Europe/Berlin:20260711T090000
DTEND;TZID=Europe/Berlin:20260711T090000
DTSTAMP:20260421T153936
CREATED:20260320T122126Z
LAST-MODIFIED:20260320T122734Z
UID:2469-1783760400-1783760400@www.tc-gerolsbach.de
SUMMARY:TC Jetzendorf - TC Gerolsbach
DESCRIPTION:Bambini12
URL:https://www.tc-gerolsbach.de/event/tc-jetzendorf-tc-gerolsbach/
LOCATION:TC Jetzendorf\, Schulstr. 23\, Jetzendorf\, 85305
CATEGORIES:Punktspiel
END:VEVENT
BEGIN:VEVENT
DTSTART;TZID=Europe/Berlin:20260711T140000
DTEND;TZID=Europe/Berlin:20260711T140000
DTSTAMP:20260421T153936
CREATED:20260320T122157Z
LAST-MODIFIED:20260320T122804Z
UID:2481-1783778400-1783778400@www.tc-gerolsbach.de
SUMMARY:TC Gerolsbach - TC Reichertshausen
DESCRIPTION:Damen40
URL:https://www.tc-gerolsbach.de/event/tc-gerolsbach-tc-reichertshausen/
LOCATION:TC Gerolsbach\, Oberhalb der Schule\, Gerolsbach\, 85302
CATEGORIES:Punktspiel
END:VEVENT
BEGIN:VEVENT
DTSTART;TZID=Europe/Berlin:20260711T140000
DTEND;TZID=Europe/Berlin:20260711T140000
DTSTAMP:20260421T153936
CREATED:20260320T122212Z
LAST-MODIFIED:20260320T122819Z
UID:2487-1783778400-1783778400@www.tc-gerolsbach.de
SUMMARY:TC Blau-Weiß Neufahrn - TC Gerolsbach
DESCRIPTION:Herren30
URL:https://www.tc-gerolsbach.de/event/tc-blau-weiss-neufahrn-tc-gerolsbach/
CATEGORIES:Punktspiel
END:VEVENT
BEGIN:VEVENT
DTSTART;TZID=Europe/Berlin:20260712T090000
DTEND;TZID=Europe/Berlin:20260712T090000
DTSTAMP:20260421T153936
CREATED:20260320T122141Z
LAST-MODIFIED:20260320T122749Z
UID:2475-1783846800-1783846800@www.tc-gerolsbach.de
SUMMARY:TC Gerolsbach - TV Aiglsbach II
DESCRIPTION:Damen
URL:https://www.tc-gerolsbach.de/event/tc-gerolsbach-tv-aiglsbach-ii/
LOCATION:TC Gerolsbach\, Oberhalb der Schule\, Gerolsbach\, 85302
CATEGORIES:Punktspiel
END:VEVENT
END:VCALENDAR